BEGIN:VCALENDAR
VERSION:2.0
PRODID:VTCPA Courses
BEGIN:VEVENT
UID:course_id_79376IMP
DTSTAMP:20260419T224225Z
DTSTART:20260820T173000Z
DTEND:20260820T210000Z
SUMMARY:Surgent's Yellow Book and Single Audits: How to Stay in Good Graces and   Out of Bad Places with Your Peer Reviewer
LOCATION:Webinar
DESCRIPTION:Auditing (Governmental)
END:VEVENT
END:VCALENDAR