BEGIN:VCALENDAR
VERSION:2.0
PRODID:VTCPA Courses
BEGIN:VEVENT
UID:course_id_79383IMP
DTSTAMP:20260419T194329Z
DTSTART:20260826T130000Z
DTEND:20260826T163000Z
SUMMARY:Surgent's You've Got This: An Introduction to Yellow Book and Single      Audits
LOCATION:Webinar
DESCRIPTION:Auditing (Governmental)
END:VEVENT
END:VCALENDAR